BEGIN:VCALENDAR
VERSION:2.0
PRODID:-//Richland Soil &amp; Water - ECPv6.15.15//NONSGML v1.0//EN
CALSCALE:GREGORIAN
METHOD:PUBLISH
X-WR-CALNAME:Richland Soil &amp; Water
X-ORIGINAL-URL:https://richlandswcd.net
X-WR-CALDESC:Events for Richland Soil &amp; Water
REFRESH-INTERVAL;VALUE=DURATION:PT1H
X-Robots-Tag:noindex
X-PUBLISHED-TTL:PT1H
BEGIN:VTIMEZONE
TZID:America/New_York
BEGIN:DAYLIGHT
TZOFFSETFROM:-0500
TZOFFSETTO:-0400
TZNAME:EDT
DTSTART:20220313T070000
END:DAYLIGHT
BEGIN:STANDARD
TZOFFSETFROM:-0400
TZOFFSETTO:-0500
TZNAME:EST
DTSTART:20221106T060000
END:STANDARD
BEGIN:DAYLIGHT
TZOFFSETFROM:-0500
TZOFFSETTO:-0400
TZNAME:EDT
DTSTART:20230312T070000
END:DAYLIGHT
BEGIN:STANDARD
TZOFFSETFROM:-0400
TZOFFSETTO:-0500
TZNAME:EST
DTSTART:20231105T060000
END:STANDARD
BEGIN:DAYLIGHT
TZOFFSETFROM:-0500
TZOFFSETTO:-0400
TZNAME:EDT
DTSTART:20240310T070000
END:DAYLIGHT
BEGIN:STANDARD
TZOFFSETFROM:-0400
TZOFFSETTO:-0500
TZNAME:EST
DTSTART:20241103T060000
END:STANDARD
END:VTIMEZONE
BEGIN:VEVENT
DTSTART;TZID=America/New_York:20230823T100000
DTEND;TZID=America/New_York:20230823T110000
DTSTAMP:20260425T165529
CREATED:20230104T183459Z
LAST-MODIFIED:20230727T154432Z
UID:10000130-1692784800-1692788400@richlandswcd.net
SUMMARY:Volunteer of the Year Tree Planting
DESCRIPTION:Please join us as we plant a black gum tree in honor of Leonard Fox\, our volunteer of the year at Seltzer Park near the gazebo and play scape. Leonard N. Fox has been volunteering with Richland Soil and Water Conservation District since 2016. Leonard serves the district as a precipitation monitor and provides daily reports of rain and snow amounts on the  Richland Soil and Water Conservation District website. He said he volunteers with Richland Soil and Water Conservation District because the precipitation data helps others in the county make gardening\, farming\, and conservation decisions. Leonard enjoys giving back to the community. He also volunteers with the Richland Area Chamber of Commerce and is involved with the Knights of Columbus. Leonard is a retired farmer but still enjoys helping on the farm\, beekeeping\, hunting\, fishing\, and spending time with his family. He and his wife\, Kathy have two daughters\, and four grandchildren. Thank you\, Leonard\, for helping the district!
URL:https://richlandswcd.net/event/volunteer-of-the-year-tree-planting/
LOCATION:Seltzer Park Shelby Ohio\, 38 Glenwood Dr.\, Shelby\, Ohio\, 44875
END:VEVENT
END:VCALENDAR